BEGIN:VCALENDAR
VERSION:2.0
PRODID:icalendar-ruby
CALSCALE:GREGORIAN
METHOD:PUBLISH
BEGIN:VEVENT
DTSTAMP:20260423T144610Z
UID:7-540635@methodistmountaineers.org
DTSTART:20260809T140000Z
DTEND:20260809T150000Z
CLASS:PUBLIC
CREATED:20260423T082956
DESCRIPTION:
LAST-MODIFIED:20260423T082956
LOCATION:Jones UMC
SUMMARY:Jones UMC Worship
URL;VALUE=URI:https://www.methodistmountaineers.org/events/jones-umc-worshi
 p/2026-08-09
ATTACH;FILENAME=Jones-UMC-2024-scaled.jpg;FMTTYPE=image/jpeg:https://dq5pwp
 g1q8ru0.cloudfront.net/2026/04/01/01/44/30/619e86b2-1add-4280-befd-edd6c13
 d539d/Jones-UMC-2024-scaled.jpg
END:VEVENT
END:VCALENDAR
